Shooting information for this photo
Camera: | DJI FC3582 |
Exposure: | 0.004 sec. (1/250) |
Aperture: | f/1.7 |
Focal Length: | 6.7 mm (35 mm equivalent: 24.0 mm) |
Flash: | No Flash |
Exposure mode: | Program AE |
Max Aperture: | 1.7 |
Resolution: | 72 x 72 dpi |
Original Date: | 2024:03:20 08:19:30.11 |
Created on: | 2024:03:20 08:19:30.11 |
Modified on: | 2024:03:19 09:51:53 |
Software: | Adobe Photoshop Lightroom Classic 13.2 (Windows) |
Absolute Altitude | +355.628 |
Already Applied | True |
Altitude Type | RtkAlt |
Auto Lateral CA | 0 |
Blacks 2012 | -35 |
Blue Hue | 0 |
Blue Saturation | +100 |
Cam Reverse | 0 |
Camera Profile | Adobe Standard |
Camera Serial Number | 53HQK4M0M107SH |
Circle Of Confusion | 0.008 mm |
City | Mörlenbach |
Clarity 2012 | +45 |
Color Grade Blending | 50 |
Color Grade Global Hue | 0 |
Color Grade Global Lum | 0 |
Color Grade Global Sat | 0 |
Color Grade Highlight Lum | 0 |
Color Grade Midtone Hue | 0 |
Color Grade Midtone Lum | 0 |
Color Grade Midtone Sat | 0 |
Color Grade Shadow Lum | 0 |
Color Noise Reduction | 25 |
Color Noise Reduction Detail | 50 |
Color Noise Reduction Smoothness | 50 |
Color Space | sRGB |
Color Temperature | 6245 |
Compatible Version | 251854848 |
Contrast | Normal |
Contrast 2012 | +7 |
Country | Deutschland |
Country Code | DE |
Crop Angle | 0 |
Crop Bottom | 0.875939 |
Crop Constrain To Warp | 0 |
Crop Left | 0.044542 |
Crop Right | 0.92415 |
Crop Top | 0.072581 |
Date Created | 2024:03:20 08:18:23 |
Defringe Green Amount | 0 |
Defringe Green Hue Hi | 60 |
Defringe Green Hue Lo | 40 |
Defringe Purple Amount | 0 |
Defringe Purple Hue Hi | 70 |
Defringe Purple Hue Lo | 30 |
Dehaze | +9 |
Digital Zoom Ratio | 1 |
Drone Model | Mini 3 Pro |
Drone Serial Number | 1581F4XFC22580 |
Exposure 2012 | 0.00 |
Exposure Compensation | -0.7 |
Exposure Mode | Auto |
Field Of View | 73.7 deg |
Flight Pitch Degree | -0.10 |
Flight Roll Degree | -0.40 |
Flight X Speed | 0.0 |
Flight Y Speed | 0.0 |
Flight Yaw Degree | -70.60 |
Flight Z Speed | 0.0 |
Focal Length In 35mm Format | 24 mm |
Format | image/jpeg |
Gain Control | None |
Gimbal Pitch Degree | -9.50 |
Gimbal Reverse | 0 |
Gimbal Roll Degree | +0.00 |
Gimbal Yaw Degree | -106.00 |
Gps Latitude | +49.580514546 |
Gps Longitude | +8.763888899 |
Gps Status | Invalid |
Grain Amount | 0 |
Green Hue | 0 |
Green Saturation | 0 |
HDR Edit Mode | 0 |
Has Crop | True |
Has Settings | True |
Highlights 2012 | -100 |
Hue Adjustment Aqua | 0 |
Hue Adjustment Blue | 0 |
Hue Adjustment Green | 0 |
Hue Adjustment Magenta | 0 |
Hue Adjustment Orange | 0 |
Hue Adjustment Purple | 0 |
Hue Adjustment Red | 0 |
Hue Adjustment Yellow | 0 |
Hyperfocal Distance | 3.16 m |
ISO | 120 |
Image Size | 6181x4369 |
Image Source | DefaultCamera |
Is Merged HDR | True |
Is Merged Panorama | True |
Lateral Chromatic Aberration Correction Already Applied | True |
Lens | 6.7 mm f/1.7 |
Lens Info | 6.72mm f/1.7 |
Lens Manual Distortion Amount | 0 |
Lens Model | 6.7 mm f/1.7 |
Lens Profile Enable | 0 |
Light Source | Cloudy |
Light Value | 9.2 |
Location | Weiher |
Look Amount | 1 |
Look Group | Profiles |
Look Name | Adobe Color |
Look Parameters Camera Profile | Adobe Standard |
Look Parameters Convert To Grayscale | False |
Look Parameters Look Table | E1095149FDB39D7A057BAB208837E2 E1 |
Look Parameters Process Version | 15.4 |
Look Parameters Tone Curve PV2012 | 0, 0, 22, 16, 40, 35, 127, 127, 224, 230, 240, 246, 255, 255 |
Look Parameters Tone Curve PV2012 Blue | 0, 0, 255, 255 |
Look Parameters Tone Curve PV2012 Green | 0, 0, 255, 255 |
Look Parameters Tone Curve PV2012 Red | 0, 0, 255, 255 |
Look Parameters Version | 16.2 |
Look Supports Amount | false |
Look Supports Monochrome | false |
Look Supports Output Referred | false |
Luminance Adjustment Aqua | 0 |
Luminance Adjustment Blue | 0 |
Luminance Adjustment Green | 0 |
Luminance Adjustment Magenta | 0 |
Luminance Adjustment Orange | 0 |
Luminance Adjustment Purple | 0 |
Luminance Adjustment Red | 0 |
Luminance Adjustment Yellow | -18 |
Luminance Smoothing | 0 |
Metering Mode | Average |
Override Look Vignette | False |
Parametric Darks | 0 |
Parametric Highlight Split | 75 |
Parametric Highlights | 0 |
Parametric Lights | 0 |
Parametric Midtone Split | 50 |
Parametric Shadow Split | 25 |
Parametric Shadows | 0 |
Perspective Aspect | 0 |
Perspective Horizontal | 0 |
Perspective Rotate | 0.0 |
Perspective Scale | 100 |
Perspective Upright | 0 |
Perspective Vertical | 0 |
Perspective X | 0.00 |
Perspective Y | 0.00 |
Pick | 0 |
Point Colors | -1.000000, -1.000000, -1.000000, -1.000000, -1.000000, -1.000000, -1.000000, -1.000000, -1.000000, -1.000000, -1.000000, -1.000000, -1.000000, -1.000000, -1.000000, -1.000000, -1.000000, -1.000000, -1.000000 |
Post Crop Vignette Amount | 0 |
Preserved File Name | DJI_0055.DNG |
Process Version | 15.4 |
Raw File Name | DJI_0054-HDR-Pano.dng |
Red Hue | 0 |
Red Saturation | 0 |
Relative Altitude | +119.200 |
Saturation | Normal |
Saturation Adjustment Aqua | 0 |
Saturation Adjustment Blue | -3 |
Saturation Adjustment Green | 0 |
Saturation Adjustment Magenta | 0 |
Saturation Adjustment Orange | +10 |
Saturation Adjustment Purple | 0 |
Saturation Adjustment Red | -24 |
Saturation Adjustment Yellow | +12 |
Scale Factor To 35 mm Equivalent | 3.6 |
Scene Capture Type | Standard |
Scene Type | Directly photographed |
Sensitivity Type | Recommended Exposure Index |
Shadow Tint | 0 |
Shadows 2012 | +44 |
Sharpen Detail | 25 |
Sharpen Edge Masking | 0 |
Sharpen Radius | +1.0 |
Sharpness | Normal |
Shutter Type | Electronic |
Split Toning Balance | 0 |
Split Toning Highlight Hue | 0 |
Split Toning Highlight Saturation | 0 |
Split Toning Shadow Hue | 0 |
Split Toning Shadow Saturation | 0 |
State | Hessen |
Surveying Mode | 0 |
Texture | 0 |
Tint | +12 |
Tone Curve Name 2012 | Linear |
Tone Curve PV2012 | 0, 0, 255, 255 |
Tone Curve PV2012 Blue | 0, 0, 255, 255 |
Tone Curve PV2012 Green | 0, 0, 255, 255 |
Tone Curve PV2012 Red | 0, 0, 255, 255 |
Transformation | Cylindrical |
Version | 16.2 |
Vibrance | +15 |
Vignette Amount | 0 |
Virtual Focal Length | 0.373285 |
Virtual Image X Center | 0.454254 |
Virtual Image Y Center | 0.363961 |
White Balance | Auto |
Whites 2012 | +29 |
GPS Information |
GPS Altitude | 355.6 m |
GPS Latitude | 49 deg 34' 49.85" N |
GPS Latitude Ref | North |
GPS Longitude | 8 deg 45' 50.00" E |
GPS Longitude Ref | East |
GPS Map Datum | WGS-84 |
GPS Position | 49 deg 34' 49.85" N, 8 deg 45' 50.00" E |
GPS Status | Measurement Void |
GPS Version ID | 2.3.0.0 |