Shooting information for this photo
Camera: | SONY ILCE-7R |
Exposure: | 0.125 sec. (1/8) |
Aperture: | f/4.0 |
Focal Length: | 24.0 mm (35 mm equivalent: 34.3 mm) |
Flash: | Off, Did not fire |
Exposure mode: | Program AE |
Max Aperture: | 4.0 |
Resolution: | 300 x 300 dpi |
Dimension: | 4500 x 4500 pixels |
Original Date: | 2018:01:08 13:13:22 |
Created on: | 2018:01:08 13:13:22 |
Modified on: | 2019:03:06 18:37:48 |
Software: | Adobe Photoshop CS6 (Windows) |
Already Applied | True |
Approximate Focus Distance | 0 |
Auto Lateral CA | 0 |
Auto White Version | 134348800 |
Blacks 2012 | +25 |
Blue Hue | -10 |
Blue Saturation | -5 |
Brightness Value | 4290.597765 |
Camera Profile | Kodak Portra 160 NC SO |
Circle Of Confusion | 0.021 mm |
Clarity 2012 | 0 |
Color Mode | RGB |
Color Noise Reduction | 0 |
Color Space | sRGB |
Contrast 2012 | 0 |
Convert To Grayscale | False |
Date Created | 2018:01:08 13:13:22 |
Defringe Green Amount | 0 |
Defringe Green Hue Hi | 60 |
Defringe Green Hue Lo | 40 |
Defringe Purple Amount | 0 |
Defringe Purple Hue Hi | 70 |
Defringe Purple Hue Lo | 30 |
Exposure 2012 | 0.00 |
Exposure Compensation | 0 |
Exposure Index | 0 |
Field Of View | 55.4 deg |
Format | image/jpeg |
Grain Amount | 0 |
Green Hue | 0 |
Green Saturation | 0 |
Has Crop | False |
Has Settings | True |
Highlights 2012 | -15 |
Hue Adjustment Aqua | 0 |
Hue Adjustment Blue | -10 |
Hue Adjustment Green | +5 |
Hue Adjustment Magenta | +30 |
Hue Adjustment Orange | +6 |
Hue Adjustment Purple | -5 |
Hue Adjustment Red | +20 |
Hue Adjustment Yellow | +20 |
Hyperfocal Distance | 6.85 m |
ICC Profile Name | sRGB IEC61966-2.1 |
ISO | 6400, 6400 |
Image Size | 4500x4500 |
Incremental Temperature | 0 |
Incremental Tint | 0 |
Lens | FE 24-70mm F4 ZA OSS |
Lens Info | 24-70mm f/4 |
Lens Manual Distortion Amount | 0 |
Lens Profile Enable | 0 |
Lens Profile Setup | LensDefaults |
Light Source | Unknown |
Light Value | 1.0 |
Luminance Adjustment Aqua | +5 |
Luminance Adjustment Blue | -20 |
Luminance Adjustment Green | 0 |
Luminance Adjustment Magenta | +5 |
Luminance Adjustment Orange | 0 |
Luminance Adjustment Purple | +10 |
Luminance Adjustment Red | -35 |
Luminance Adjustment Yellow | 0 |
Luminance Smoothing | 0 |
Metering Mode | Multi-segment |
Parametric Darks | 0 |
Parametric Highlight Split | 75 |
Parametric Highlights | 0 |
Parametric Lights | 0 |
Parametric Midtone Split | 60 |
Parametric Shadow Split | 14 |
Parametric Shadows | 0 |
Perspective Aspect | 0 |
Perspective Horizontal | 0 |
Perspective Rotate | 0.0 |
Perspective Scale | 100 |
Perspective Upright | 0 |
Perspective Vertical | 0 |
Post Crop Vignette Amount | 0 |
Primary Chromaticities | 0 0 0 0 0 0 |
Process Version | 6.7 |
Raw File Name | fuji portra 160.jpg |
Red Hue | +5 |
Red Saturation | 0 |
Reference Black White | 0 0 0 0 0 0 |
Saturation | -5 |
Saturation Adjustment Aqua | -45 |
Saturation Adjustment Blue | -40 |
Saturation Adjustment Green | -50 |
Saturation Adjustment Magenta | -35 |
Saturation Adjustment Orange | -5 |
Saturation Adjustment Purple | -45 |
Saturation Adjustment Red | -25 |
Saturation Adjustment Yellow | -30 |
Scale Factor To 35 mm Equivalent | 1.4 |
Scene Type | Directly photographed |
Sensing Method | Unknown (0) |
Shadow Tint | 0 |
Shadows 2012 | +25 |
Sharpen Detail | 25 |
Sharpen Edge Masking | 0 |
Sharpen Radius | +1.0 |
Sharpness | 0 |
Split Toning Balance | 0 |
Split Toning Highlight Hue | 0 |
Split Toning Highlight Saturation | 0 |
Split Toning Shadow Hue | 0 |
Split Toning Shadow Saturation | 0 |
Subject Distance | 0 m |
Tone Curve | 0, 0, 255, 255 |
Tone Curve Blue | 0, 0, 255, 255 |
Tone Curve Green | 0, 0, 255, 255 |
Tone Curve Name | Linear |
Tone Curve Name 2012 | Custom |
Tone Curve PV2012 | 0, 25, 25, 41, 111, 114, 255, 249 |
Tone Curve PV2012 Blue | 0, 0, 37, 23, 120, 123, 183, 193, 255, 255 |
Tone Curve PV2012 Green | 0, 0, 40, 22, 120, 123, 184, 195, 255, 255 |
Tone Curve PV2012 Red | 0, 0, 41, 23, 119, 123, 183, 197, 255, 255 |
Tone Curve Red | 0, 0, 255, 255 |
Version | 9.0 |
Vibrance | 0 |
Vignette Amount | 0 |
White Balance | As Shot |
White Point | 0 0 |
Whites 2012 | -15 |