Shooting information for this photo
Camera: | SONY ILCE-7R |
Exposure: | 0.1 sec. (1/10) |
Aperture: | f/16.0 |
Focal Length: | 36.0 mm (35 mm equivalent: 115.7 mm) |
Flash: | Off, Did not fire |
Exposure mode: | Shutter speed priority AE |
Max Aperture: | 4.0 |
Resolution: | 300 x 300 dpi |
Dimension: | 2000 x 2000 pixels |
Original Date: | 2017:11:11 15:33:08 |
Created on: | 2017:11:11 15:33:08 |
Modified on: | 2018:01:04 17:45:15 |
Software: | Adobe Photoshop CS6 (Windows) |
Already Applied | True |
Auto Lateral CA | 0 |
Auto White Version | 134348800 |
Blacks 2012 | 0 |
Blue Hue | -5 |
Blue Saturation | -15 |
Brightness Value | 7.099219 |
Camera Profile | Kodak Royal 400 - SO |
Circle Of Confusion | 0.009 mm |
Clarity 2012 | +10 |
Color Mode | RGB |
Color Noise Reduction | 0 |
Color Space | sRGB |
Contrast 2012 | 0 |
Convert To Grayscale | False |
Date Created | 2017:11:11 15:33:08 |
Defringe Green Amount | 0 |
Defringe Green Hue Hi | 60 |
Defringe Green Hue Lo | 40 |
Defringe Purple Amount | 0 |
Defringe Purple Hue Hi | 70 |
Defringe Purple Hue Lo | 30 |
Distortion Correction Already Applied | True |
Exposure 2012 | 0.00 |
Exposure Compensation | 0 |
Exposure Index | 0 |
Field Of View | 17.7 deg |
Format | image/jpeg |
Grain Amount | 0 |
Green Hue | +75 |
Green Saturation | +18 |
Has Crop | False |
Has Settings | True |
Highlights 2012 | -50 |
Hue Adjustment Aqua | +10 |
Hue Adjustment Blue | +5 |
Hue Adjustment Green | 0 |
Hue Adjustment Magenta | +20 |
Hue Adjustment Orange | +5 |
Hue Adjustment Purple | 0 |
Hue Adjustment Red | 0 |
Hue Adjustment Yellow | +5 |
Hyperfocal Distance | 8.66 m |
ICC Profile Name | sRGB IEC61966-2.1 |
ISO | 100, 100 |
Image Size | 2000x2000 |
Incremental Temperature | 0 |
Incremental Tint | 0 |
Lateral Chromatic Aberration Correction Already Applied | True |
Lens | FE 24-70mm F4 ZA OSS |
Lens Distort Info | 1042713093/1073741824 13255919/1073741824 5777286/1073741824 11975159/1073741824 |
Lens Info | 24-70mm f/4 |
Lens Manual Distortion Amount | 0 |
Lens Profile Enable | 0 |
Lens Profile Setup | LensDefaults |
Light Source | Daylight |
Light Value | 11.3 |
Luminance Adjustment Aqua | +15 |
Luminance Adjustment Blue | -15 |
Luminance Adjustment Green | +10 |
Luminance Adjustment Magenta | +10 |
Luminance Adjustment Orange | -5 |
Luminance Adjustment Purple | +20 |
Luminance Adjustment Red | -10 |
Luminance Adjustment Yellow | +10 |
Luminance Noise Reduction Contrast | 0 |
Luminance Noise Reduction Detail | 50 |
Luminance Smoothing | 30 |
Metering Mode | Multi-segment |
Parametric Darks | 0 |
Parametric Highlight Split | 75 |
Parametric Highlights | 0 |
Parametric Lights | 0 |
Parametric Midtone Split | 60 |
Parametric Shadow Split | 14 |
Parametric Shadows | 0 |
Perspective Aspect | 0 |
Perspective Horizontal | 0 |
Perspective Rotate | 0.0 |
Perspective Scale | 100 |
Perspective Upright | 0 |
Perspective Vertical | 0 |
Post Crop Vignette Amount | 0 |
Primary Chromaticities | 0 0 0 0 0 0 |
Process Version | 6.7 |
Raw File Name | kodak royalgold 400 cool-2.jpg |
Red Hue | +35 |
Red Saturation | +12 |
Reference Black White | 0 0 0 0 0 0 |
Saturation | 0 |
Saturation Adjustment Aqua | -40 |
Saturation Adjustment Blue | -15 |
Saturation Adjustment Green | -45 |
Saturation Adjustment Magenta | -35 |
Saturation Adjustment Orange | -15 |
Saturation Adjustment Purple | -45 |
Saturation Adjustment Red | -15 |
Saturation Adjustment Yellow | -15 |
Scale Factor To 35 mm Equivalent | 3.2 |
Scene Type | Directly photographed |
Sensing Method | Unknown (0) |
Shadow Tint | -2 |
Shadows 2012 | +35 |
Sharpen Detail | 25 |
Sharpen Edge Masking | 0 |
Sharpen Radius | +1.0 |
Sharpness | 60 |
Split Toning Balance | 0 |
Split Toning Highlight Hue | 0 |
Split Toning Highlight Saturation | 0 |
Split Toning Shadow Hue | 0 |
Split Toning Shadow Saturation | 0 |
Subject Distance | 0 m |
Tone Curve | 0, 0, 255, 255 |
Tone Curve Blue | 0, 0, 255, 255 |
Tone Curve Green | 0, 0, 255, 255 |
Tone Curve Name | Linear |
Tone Curve Name 2012 | Custom |
Tone Curve PV2012 | 0, 44, 77, 74, 185, 188, 255, 245 |
Tone Curve PV2012 Blue | 0, 0, 26, 21, 116, 125, 185, 198, 255, 255 |
Tone Curve PV2012 Green | 0, 0, 44, 25, 120, 124, 184, 198, 255, 255 |
Tone Curve PV2012 Red | 0, 0, 45, 13, 126, 123, 183, 195, 255, 255 |
Tone Curve Red | 0, 0, 255, 255 |
Version | 9.0 |
Vibrance | -15 |
Vignette Amount | 0 |
Vignette Correction Already Applied | True |
White Balance | As Shot |
White Point | 0 0 |
Whites 2012 | -30 |