Shooting information for this photo
Camera: | SONY ILCE-7R |
Exposure: | 0.125 sec. (1/8) |
Aperture: | f/6.3 |
Focal Length: | 24.0 mm (35 mm equivalent: 77.1 mm) |
Flash: | Off, Did not fire |
Exposure mode: | Program AE |
Max Aperture: | 4.0 |
Resolution: | 300 x 300 dpi |
Dimension: | 2000 x 2000 pixels |
Original Date: | 2018:01:21 15:42:12 |
Created on: | 2018:01:21 15:42:12 |
Modified on: | 2018:01:28 18:49:10 |
Software: | Adobe Photoshop Lightroom 6.0 (Windows) |
Already Applied | True |
Auto Lateral CA | 0 |
Auto White Version | 134348800 |
Blacks 2012 | +15 |
Blue Hue | -5 |
Blue Saturation | -15 |
Brightness Value | 4294.726671 |
Camera Profile | Kodak Royal 400 - SO |
Circle Of Confusion | 0.009 mm |
Clarity 2012 | -5 |
Color Noise Reduction | 25 |
Color Noise Reduction Detail | 50 |
Color Noise Reduction Smoothness | 50 |
Color Space | Unknown (0) |
Contrast 2012 | 0 |
Convert To Grayscale | False |
Defringe Green Amount | 0 |
Defringe Green Hue Hi | 60 |
Defringe Green Hue Lo | 40 |
Defringe Purple Amount | 0 |
Defringe Purple Hue Hi | 70 |
Defringe Purple Hue Lo | 30 |
Distortion Correction Already Applied | True |
Exposure 2012 | 0.00 |
Exposure Compensation | 0 |
Exposure Index | 0 |
Field Of View | 26.3 deg |
Format | image/jpeg |
Grain Amount | 0 |
Green Hue | +75 |
Green Saturation | +18 |
Has Crop | False |
Has Settings | True |
Highlights 2012 | -50 |
Hue Adjustment Aqua | +10 |
Hue Adjustment Blue | +5 |
Hue Adjustment Green | 0 |
Hue Adjustment Magenta | +20 |
Hue Adjustment Orange | +5 |
Hue Adjustment Purple | 0 |
Hue Adjustment Red | 0 |
Hue Adjustment Yellow | +5 |
Hyperfocal Distance | 9.78 m |
ISO | 1000, 1000 |
Image Size | 2000x2000 |
Incremental Temperature | 0 |
Incremental Tint | 0 |
Lateral Chromatic Aberration Correction Already Applied | True |
Lens | FE 24-70mm F4 ZA OSS |
Lens Distort Info | 33705/32768 -115358677/1073741824 49155039/1073741824 1134561/1073741824 |
Lens Info | 24-70mm f/4 |
Lens Manual Distortion Amount | 0 |
Lens Profile Enable | 0 |
Lens Profile Setup | LensDefaults |
Light Source | Daylight |
Light Value | 5.0 |
Luminance Adjustment Aqua | +15 |
Luminance Adjustment Blue | -15 |
Luminance Adjustment Green | 0 |
Luminance Adjustment Magenta | +10 |
Luminance Adjustment Orange | -15 |
Luminance Adjustment Purple | +20 |
Luminance Adjustment Red | -20 |
Luminance Adjustment Yellow | +10 |
Luminance Smoothing | 0 |
Metering Mode | Multi-segment |
Parametric Darks | 0 |
Parametric Highlight Split | 75 |
Parametric Highlights | 0 |
Parametric Lights | 0 |
Parametric Midtone Split | 60 |
Parametric Shadow Split | 14 |
Parametric Shadows | 0 |
Perspective Aspect | 0 |
Perspective Horizontal | 0 |
Perspective Rotate | 0.0 |
Perspective Scale | 100 |
Perspective Upright | 0 |
Perspective Vertical | 0 |
Post Crop Vignette Amount | 0 |
Primary Chromaticities | 0 0 0 0 0 0 |
Process Version | 6.7 |
Raw File Name | kodak ultramax 400.jpg |
Red Hue | +35 |
Red Saturation | +12 |
Reference Black White | 0 0 0 0 0 0 |
Saturation | 0 |
Saturation Adjustment Aqua | -40 |
Saturation Adjustment Blue | -15 |
Saturation Adjustment Green | -45 |
Saturation Adjustment Magenta | -35 |
Saturation Adjustment Orange | -15 |
Saturation Adjustment Purple | -45 |
Saturation Adjustment Red | -15 |
Saturation Adjustment Yellow | -15 |
Scale Factor To 35 mm Equivalent | 3.2 |
Scene Type | Directly photographed |
Sensing Method | Unknown (0) |
Shadow Tint | -2 |
Shadows 2012 | +35 |
Sharpen Detail | 25 |
Sharpen Edge Masking | 0 |
Sharpen Radius | +1.0 |
Sharpness | 0 |
Split Toning Balance | 0 |
Split Toning Highlight Hue | 0 |
Split Toning Highlight Saturation | 0 |
Split Toning Shadow Hue | 0 |
Split Toning Shadow Saturation | 0 |
Subject Distance | 0 m |
Tone Curve | 0, 0, 255, 255 |
Tone Curve Blue | 0, 0, 255, 255 |
Tone Curve Green | 0, 0, 255, 255 |
Tone Curve Name | Linear |
Tone Curve Name 2012 | Custom |
Tone Curve PV2012 | 0, 44, 77, 74, 185, 188, 255, 245 |
Tone Curve PV2012 Blue | 0, 0, 26, 21, 116, 125, 185, 198, 255, 255 |
Tone Curve PV2012 Green | 0, 0, 44, 25, 120, 124, 184, 198, 255, 255 |
Tone Curve PV2012 Red | 0, 0, 45, 13, 126, 123, 183, 195, 255, 255 |
Tone Curve Red | 0, 0, 255, 255 |
Version | 9.0 |
Vibrance | 0 |
Vignette Amount | 0 |
Vignette Correction Already Applied | True |
White Balance | As Shot |
White Point | 0 0 |
Whites 2012 | -30 |